BEGIN:VCALENDAR
VERSION:2.0
PRODID:-//Expressive Arts Institute - ECPv6.15.20//NONSGML v1.0//EN
CALSCALE:GREGORIAN
METHOD:PUBLISH
X-WR-CALNAME:Expressive Arts Institute
X-ORIGINAL-URL:https://www.expressiveartsinstitute.org
X-WR-CALDESC:Events for Expressive Arts Institute
REFRESH-INTERVAL;VALUE=DURATION:PT1H
X-Robots-Tag:noindex
X-PUBLISHED-TTL:PT1H
BEGIN:VTIMEZONE
TZID:UTC
BEGIN:STANDARD
TZOFFSETFROM:+0000
TZOFFSETTO:+0000
TZNAME:UTC
DTSTART:20220101T000000
END:STANDARD
END:VTIMEZONE
BEGIN:VEVENT
DTSTART;TZID=UTC:20230816T090000
DTEND;TZID=UTC:20230820T170000
DTSTAMP:20260419T154643
CREATED:20221202T131256Z
LAST-MODIFIED:20230801T225706Z
UID:10000097-1692176400-1692550800@www.expressiveartsinstitute.org
SUMMARY:Institute Summertime Intensive!
DESCRIPTION:Join us this summer for four days of in-person expressive arts training. This fun\, fully experiential course provides credits that can be used in lieu of our prerequisite introduction course and applied to any of our training programs in the intermodal expressive arts. The course will benefit students\, therapy professionals\, and those simply seeking to explore their creative potential We’ll work across disciplines with visual art\, dance\, music\, poetry\, drama\, creative writing and land art. We will work at various locations both outdoors and in studio in San Diego\, \nContact Tara@arts4change.com for requirements and registration details. \n\n \n\n\n\nSelect Your Event\n\n\nInstitute Summertime Intensive $995.00 USD
URL:https://www.expressiveartsinstitute.org/event/institute-summertime-intensive-be-a-part-of-the-fun-and-the-history/
LOCATION:Expressive Arts Institute\, 7755 North Avenue\, Lemon Grove\, CA\, 91945\, United States
CATEGORIES:Courses,Featured,Intensive,Special Event,Workshops
ATTACH;FMTTYPE=image/jpeg:https://www.expressiveartsinstitute.org/wp-content/uploads/2022/12/Summer-Intensive-2023.jpg
ORGANIZER;CN="Expressive Arts Institute":MAILTO:admin@arts4change.com
GEO:32.7372906;-117.2141162
X-APPLE-STRUCTURED-LOCATION;VALUE=URI;X-ADDRESS=Expressive Arts Institute 7755 North Avenue Lemon Grove CA 91945 United States;X-APPLE-RADIUS=500;X-TITLE=7755 North Avenue:geo:-117.2141162,32.7372906
END:VEVENT
END:VCALENDAR